BEGIN:VCALENDAR
VERSION:2.0
PRODID:-//Uplift Vineyard - ECPv6.15.20//NONSGML v1.0//EN
CALSCALE:GREGORIAN
METHOD:PUBLISH
X-WR-CALNAME:Uplift Vineyard
X-ORIGINAL-URL:https://upliftvineyard.com
X-WR-CALDESC:Events for Uplift Vineyard
REFRESH-INTERVAL;VALUE=DURATION:PT1H
X-Robots-Tag:noindex
X-PUBLISHED-TTL:PT1H
BEGIN:VTIMEZONE
TZID:UTC
BEGIN:STANDARD
TZOFFSETFROM:+0000
TZOFFSETTO:+0000
TZNAME:UTC
DTSTART:20240101T000000
END:STANDARD
END:VTIMEZONE
BEGIN:VEVENT
DTSTART;TZID=UTC:20250626T150000
DTEND;TZID=UTC:20250626T190000
DTSTAMP:20260420T001729
CREATED:20250616T154652Z
LAST-MODIFIED:20250624T135607Z
UID:388-1750950000-1750964400@upliftvineyard.com
SUMMARY:Uplift Summer Pasta Class
DESCRIPTION:Thursday\, June 26th\n3 – 7 PM\nUplift Vineyard\n\nJoin us at Uplift Vineyard for an immersive afternoon of cooking\, conversation\, and connection. We’re welcoming JeriLynne Clifford of Hill Country Bon Vivant for an intimate hands-on pasta class and summer soirée\, curated exclusively for our Uplift members. \nTogether\, we’ll craft a beautiful seasonal meal—from fresh pasta and a savory chicken course to a build-your-own tiramisu—then sit down as a group to enjoy our creations paired with Uplift wines\, including two special preview pours from wines yet to be released. \nThe experience also includes a guided vineyard walk and harvest update with Winemaker Claire Richardson\, an apron to take home\, and full recipes of the dishes we’ll prepare together. \nAs this is a small\, intimate experience\, tickets are limited to two per member. This is a one-of-a-kind culinary celebration of summer\, Texas wine\, and the joy of gathering around the table.
URL:https://upliftvineyard.com/event/uplift-summer-pasta-class/
LOCATION:Uplift Vineyard\, 1411 Co Rd 119\, TX\, 78611\, United States
CATEGORIES:Event
END:VEVENT
END:VCALENDAR