BEGIN:VCALENDAR
VERSION:2.0
PRODID:-//Uplift Vineyard - ECPv6.15.20//NONSGML v1.0//EN
CALSCALE:GREGORIAN
METHOD:PUBLISH
X-ORIGINAL-URL:https://upliftvineyard.com
X-WR-CALDESC:Events for Uplift Vineyard
REFRESH-INTERVAL;VALUE=DURATION:PT1H
X-Robots-Tag:noindex
X-PUBLISHED-TTL:PT1H
BEGIN:VTIMEZONE
TZID:UTC
BEGIN:STANDARD
TZOFFSETFROM:+0000
TZOFFSETTO:+0000
TZNAME:UTC
DTSTART:20240101T000000
END:STANDARD
END:VTIMEZONE
BEGIN:VEVENT
DTSTART;TZID=UTC:20251018T110000
DTEND;TZID=UTC:20251018T160000
DTSTAMP:20260419T101220
CREATED:20250224T175254Z
LAST-MODIFIED:20250916T153809Z
UID:323-1760785200-1760803200@upliftvineyard.com
SUMMARY:2025 Fall Release
DESCRIPTION:Saturday October 18th\n									\n\n							\n										11 AM – 1:30 PM or 3 PM – 5:30 PM\n									\n\n							\n										1411 Co Rd 119\, Burnet\, TX 78611\n									\n\nEvent Details:\nWe are excited to extend an invitation to our Fall club release. \nExperience the rich flavors and enticing aromas of a Brazilian-inspired feast\, expertly crafted by the skilled chefs from Casa do Brasil as they grill and roast cuts of meat and vegetables over open flames. Indulge in tasting and discovering our latest wine offerings thoughtfully selected by our talented winemaker.  \n$55 For Members | $60 For Guests \nWines in the Release\n2023 Montepulciano \n2023 Aglianico \n2023 Cabernet Sauvignon \nJoin us at 11 AM or 3 PM
URL:https://upliftvineyard.com/event/2025-fall-release/
LOCATION:Uplift Vineyard\, 1411 Co Rd 119\, TX\, 78611\, United States
CATEGORIES:Event
ATTACH;FMTTYPE=image/webp:https://upliftvineyard.com/wp-content/uploads/2024/11/woman-pouring-wine-into-glass.webp
END:VEVENT
END:VCALENDAR