BEGIN:VCALENDAR
VERSION:2.0
PRODID:-//Uplift Vineyard - ECPv6.15.20//NONSGML v1.0//EN
CALSCALE:GREGORIAN
METHOD:PUBLISH
X-ORIGINAL-URL:https://upliftvineyard.com
X-WR-CALDESC:Events for Uplift Vineyard
REFRESH-INTERVAL;VALUE=DURATION:PT1H
X-Robots-Tag:noindex
X-PUBLISHED-TTL:PT1H
BEGIN:VTIMEZONE
TZID:UTC
BEGIN:STANDARD
TZOFFSETFROM:+0000
TZOFFSETTO:+0000
TZNAME:UTC
DTSTART:20240101T000000
END:STANDARD
END:VTIMEZONE
BEGIN:VEVENT
DTSTART;TZID=UTC:20250905T183000
DTEND;TZID=UTC:20250905T213000
DTSTAMP:20260419T101344
CREATED:20250804T182613Z
LAST-MODIFIED:20250818T145547Z
UID:424-1757097000-1757107800@upliftvineyard.com
SUMMARY:2025 Live Fire Dinner
DESCRIPTION:Friday\, September 5th\n									\n\n							\n										6:30 – 9:30 PM\n									\n\n							\n										Uplift Vineyards\n									\n\n		This Dinner is Sold Out \n\n \nGather around the flames for an unforgettable culinary experience. The Live Fire Dinner is a five-course\, open-flame feast prepared on-site at the Uplift estate—each dish thoughtfully paired with limited-production Uplift wines. \nChef-driven\, the menu draws bold flavor from live fire techniques and seasonal Hill Country ingredients. From fire-roasted mussels in a smoky chorizo broth to a wood-smoked strip loin with “killer sauce\,” every plate is served with a side of vineyard views and Texas hospitality. \nFive-Course Menu Highlights:Fire-roasted carrots\, goat cheese\, honey-glazed hush puppies.Mussels with spicy tomato broth & grilled sourdough.Pork belly with grits and peach bourbon sauce.Smoked strip loin with mash and grilled mushrooms.Grilled peach sundae with cinnamon sugar & bourbon sauce. \nFeatured Wines2024 Viognier2024 Roussanne2023 Sangiovese2021 Badu2022 MerlotA surprise pour with dessert \nTickets are limited and only available for Uplift Club Members. Limited to two tickets per Member. Secure your seat at the fire.
URL:https://upliftvineyard.com/event/live-fire-dinner/
LOCATION:Uplift Vineyard\, 1411 Co Rd 119\, TX\, 78611\, United States
CATEGORIES:Event
END:VEVENT
END:VCALENDAR